BEGIN:VCALENDAR
VERSION:2.0
PRODID:icalendar-ruby
CALSCALE:GREGORIAN
METHOD:PUBLISH
BEGIN:VEVENT
DTSTAMP:20260423T165346Z
UID:5-732893@verndaleareachristianacademy.org
DTSTART:20260405T160000Z
DTEND:20260405T170000Z
CLASS:PUBLIC
CREATED:20260423T114749
DESCRIPTION:Sunday Worship
LAST-MODIFIED:20260423T114749
LOCATION:
SUMMARY:Sunday Worship
URL;VALUE=URI:https://www.verndaleareachristianacademy.org/events/sunday-wo
 rship/2026-04-05
END:VEVENT
END:VCALENDAR
