BEGIN:VCALENDAR
VERSION:2.0
PRODID:icalendar-ruby
CALSCALE:GREGORIAN
METHOD:PUBLISH
BEGIN:VEVENT
DTSTAMP:20260423T202226Z
UID:5-733274@verndaleareachristianacademy.org
DTSTART:20260419T160000Z
DTEND:20260419T170000Z
CLASS:PUBLIC
CREATED:20260423T144436
DESCRIPTION:Sunday Worship
LAST-MODIFIED:20260423T144436
LOCATION:
SUMMARY:Sunday Worship
URL;VALUE=URI:https://www.verndaleareachristianacademy.org/events/sunday-wo
 rship/2026-04-19
END:VEVENT
END:VCALENDAR
