BEGIN:VCALENDAR
VERSION:2.0
PRODID:icalendar-ruby
CALSCALE:GREGORIAN
METHOD:PUBLISH
BEGIN:VEVENT
DTSTAMP:20260423T215753Z
UID:5-733275@verndaleareachristianacademy.org
DTSTART:20260426T160000Z
DTEND:20260426T170000Z
CLASS:PUBLIC
CREATED:20260423T144436
DESCRIPTION:Sunday Worship
LAST-MODIFIED:20260423T144436
LOCATION:
SUMMARY:Sunday Worship
URL;VALUE=URI:https://www.verndaleareachristianacademy.org/events/sunday-wo
 rship/2026-04-26
END:VEVENT
END:VCALENDAR
