BEGIN:VCALENDAR
VERSION:2.0
PRODID:icalendar-ruby
CALSCALE:GREGORIAN
METHOD:PUBLISH
BEGIN:VEVENT
DTSTAMP:20260423T233927Z
UID:5-733655@verndaleareachristianacademy.org
DTSTART:20260503T160000Z
DTEND:20260503T170000Z
CLASS:PUBLIC
CREATED:20260423T173852
DESCRIPTION:Sunday Worship
LAST-MODIFIED:20260423T173852
LOCATION:
SUMMARY:Sunday Worship
URL;VALUE=URI:https://www.verndaleareachristianacademy.org/events/sunday-wo
 rship/2026-05-03
END:VEVENT
END:VCALENDAR
