BEGIN:VCALENDAR
VERSION:2.0
PRODID:icalendar-ruby
CALSCALE:GREGORIAN
METHOD:PUBLISH
BEGIN:VEVENT
DTSTAMP:20260424T051633Z
UID:5-734038@verndaleareachristianacademy.org
DTSTART:20260531T160000Z
DTEND:20260531T170000Z
CLASS:PUBLIC
CREATED:20260423T203204
DESCRIPTION:Sunday Worship
LAST-MODIFIED:20260423T203204
LOCATION:
SUMMARY:Sunday Worship
URL;VALUE=URI:https://www.verndaleareachristianacademy.org/events/sunday-wo
 rship/2026-05-31
END:VEVENT
END:VCALENDAR
