BEGIN:VCALENDAR
VERSION:2.0
PRODID:icalendar-ruby
CALSCALE:GREGORIAN
METHOD:PUBLISH
BEGIN:VEVENT
DTSTAMP:20260424T113613Z
UID:5-734421@verndaleareachristianacademy.org
DTSTART:20260628T160000Z
DTEND:20260628T170000Z
CLASS:PUBLIC
CREATED:20260424T055954
DESCRIPTION:Sunday Worship
LAST-MODIFIED:20260424T055954
LOCATION:
SUMMARY:Sunday Worship
URL;VALUE=URI:https://www.verndaleareachristianacademy.org/events/sunday-wo
 rship/2026-06-28
END:VEVENT
END:VCALENDAR
