BEGIN:VCALENDAR
VERSION:2.0
PRODID:icalendar-ruby
CALSCALE:GREGORIAN
METHOD:PUBLISH
BEGIN:VEVENT
DTSTAMP:20260424T145318Z
UID:5-734802@verndaleareachristianacademy.org
DTSTART:20260712T160000Z
DTEND:20260712T170000Z
CLASS:PUBLIC
CREATED:20260424T085414
DESCRIPTION:Sunday Worship
LAST-MODIFIED:20260424T085414
LOCATION:
SUMMARY:Sunday Worship
URL;VALUE=URI:https://www.verndaleareachristianacademy.org/events/sunday-wo
 rship/2026-07-12
END:VEVENT
END:VCALENDAR
