BEGIN:VCALENDAR
VERSION:2.0
PRODID:icalendar-ruby
CALSCALE:GREGORIAN
METHOD:PUBLISH
BEGIN:VEVENT
DTSTAMP:20260424T180107Z
UID:5-735183@verndaleareachristianacademy.org
DTSTART:20260726T160000Z
DTEND:20260726T170000Z
CLASS:PUBLIC
CREATED:20260424T114412
DESCRIPTION:Sunday Worship
LAST-MODIFIED:20260424T114412
LOCATION:
SUMMARY:Sunday Worship
URL;VALUE=URI:https://www.verndaleareachristianacademy.org/events/sunday-wo
 rship/2026-07-26
END:VEVENT
END:VCALENDAR
