BEGIN:VCALENDAR
VERSION:2.0
PRODID:icalendar-ruby
CALSCALE:GREGORIAN
METHOD:PUBLISH
BEGIN:VEVENT
DTSTAMP:20260425T024346Z
UID:5-736325@verndaleareachristianacademy.org
DTSTART:20260830T160000Z
DTEND:20260830T170000Z
CLASS:PUBLIC
CREATED:20260424T200622
DESCRIPTION:Sunday Worship
LAST-MODIFIED:20260424T200622
LOCATION:
SUMMARY:Sunday Worship
URL;VALUE=URI:https://www.verndaleareachristianacademy.org/events/sunday-wo
 rship/2026-08-30
END:VEVENT
END:VCALENDAR
