BEGIN:VCALENDAR
VERSION:2.0
PRODID:icalendar-ruby
CALSCALE:GREGORIAN
METHOD:PUBLISH
BEGIN:VEVENT
DTSTAMP:20260425T155339Z
UID:5-737091@verndaleareachristianacademy.org
DTSTART:20261025T160000Z
DTEND:20261025T170000Z
CLASS:PUBLIC
CREATED:20260425T083636
DESCRIPTION:Sunday Worship
LAST-MODIFIED:20260425T083636
LOCATION:
SUMMARY:Sunday Worship
URL;VALUE=URI:https://www.verndaleareachristianacademy.org/events/sunday-wo
 rship/2026-10-25
END:VEVENT
END:VCALENDAR
